BEGIN:VCALENDAR
VERSION:2.0
PRODID:-//Tim and Myles Thompson - ECPv6.15.13.1//NONSGML v1.0//EN
CALSCALE:GREGORIAN
METHOD:PUBLISH
X-WR-CALNAME:Tim and Myles Thompson
X-ORIGINAL-URL:https://timandmylesthompson.com
X-WR-CALDESC:Events for Tim and Myles Thompson
REFRESH-INTERVAL;VALUE=DURATION:PT1H
X-Robots-Tag:noindex
X-PUBLISHED-TTL:PT1H
BEGIN:VTIMEZONE
TZID:UTC
BEGIN:STANDARD
TZOFFSETFROM:+0000
TZOFFSETTO:+0000
TZNAME:UTC
DTSTART:20250101T000000
END:STANDARD
END:VTIMEZONE
BEGIN:VEVENT
DTSTART;TZID=UTC:20260117T190000
DTEND;TZID=UTC:20260117T210000
DTSTAMP:20260423T235714
CREATED:20251221T184453Z
LAST-MODIFIED:20251221T184453Z
UID:1499-1768676400-1768683600@timandmylesthompson.com
SUMMARY:Wolf Howl House Concert
DESCRIPTION:
URL:https://timandmylesthompson.com/event/wolf-howl-house-concert/
LOCATION:Wolf Howl House Concert\, St Petersburg\, FL\, United States
END:VEVENT
END:VCALENDAR