BEGIN:VCALENDAR
VERSION:2.0
PRODID:-//Tim and Myles Thompson - ECPv6.15.13.1//NONSGML v1.0//EN
CALSCALE:GREGORIAN
METHOD:PUBLISH
X-WR-CALNAME:Tim and Myles Thompson
X-ORIGINAL-URL:https://timandmylesthompson.com
X-WR-CALDESC:Events for Tim and Myles Thompson
REFRESH-INTERVAL;VALUE=DURATION:PT1H
X-Robots-Tag:noindex
X-PUBLISHED-TTL:PT1H
BEGIN:VTIMEZONE
TZID:UTC
BEGIN:STANDARD
TZOFFSETFROM:+0000
TZOFFSETTO:+0000
TZNAME:UTC
DTSTART:20250101T000000
END:STANDARD
END:VTIMEZONE
BEGIN:VTIMEZONE
TZID:America/New_York
BEGIN:DAYLIGHT
TZOFFSETFROM:-0500
TZOFFSETTO:-0400
TZNAME:EDT
DTSTART:20250309T070000
END:DAYLIGHT
BEGIN:STANDARD
TZOFFSETFROM:-0400
TZOFFSETTO:-0500
TZNAME:EST
DTSTART:20251102T060000
END:STANDARD
BEGIN:DAYLIGHT
TZOFFSETFROM:-0500
TZOFFSETTO:-0400
TZNAME:EDT
DTSTART:20260308T070000
END:DAYLIGHT
BEGIN:STANDARD
TZOFFSETFROM:-0400
TZOFFSETTO:-0500
TZNAME:EST
DTSTART:20261101T060000
END:STANDARD
BEGIN:DAYLIGHT
TZOFFSETFROM:-0500
TZOFFSETTO:-0400
TZNAME:EDT
DTSTART:20270314T070000
END:DAYLIGHT
BEGIN:STANDARD
TZOFFSETFROM:-0400
TZOFFSETTO:-0500
TZNAME:EST
DTSTART:20271107T060000
END:STANDARD
END:VTIMEZONE
BEGIN:VEVENT
DTSTART;TZID=UTC:20260307T190000
DTEND;TZID=UTC:20260307T210000
DTSTAMP:20260423T221307
CREATED:20251221T191633Z
LAST-MODIFIED:20251221T191633Z
UID:1516-1772910000-1772917200@timandmylesthompson.com
SUMMARY:Private event
DESCRIPTION:
URL:https://timandmylesthompson.com/event/private-event-2/
LOCATION:Private event LA\, Ca\, CA\, United States
END:VEVENT
BEGIN:VEVENT
DTSTART;TZID=UTC:20260306T190000
DTEND;TZID=UTC:20260306T210000
DTSTAMP:20260423T221307
CREATED:20251221T191422Z
LAST-MODIFIED:20251221T191422Z
UID:1513-1772823600-1772830800@timandmylesthompson.com
SUMMARY:Private Event
DESCRIPTION:
URL:https://timandmylesthompson.com/event/private-event/
LOCATION:Coarsegold\, Coarsegold\, CA\, United States
END:VEVENT
BEGIN:VEVENT
DTSTART;TZID=UTC:20260305T190000
DTEND;TZID=UTC:20260305T210000
DTSTAMP:20260423T221307
CREATED:20251221T185947Z
LAST-MODIFIED:20251221T185947Z
UID:1509-1772737200-1772744400@timandmylesthompson.com
SUMMARY:The Side Door
DESCRIPTION:
URL:https://timandmylesthompson.com/event/the-side-door/
LOCATION:The Side Door\, Sacramento\, CA\, United States
END:VEVENT
BEGIN:VEVENT
DTSTART;TZID=UTC:20260304T190000
DTEND;TZID=UTC:20260304T210000
DTSTAMP:20260423T221307
CREATED:20251221T185713Z
LAST-MODIFIED:20251221T185713Z
UID:1506-1772650800-1772658000@timandmylesthompson.com
SUMMARY:The Back Room
DESCRIPTION:
URL:https://timandmylesthompson.com/event/the-back-room/
LOCATION:The Back Room\, Berkley\, CA\, United States
END:VEVENT
BEGIN:VEVENT
DTSTART;TZID=UTC:20260215T190000
DTEND;TZID=UTC:20260215T210000
DTSTAMP:20260423T221307
CREATED:20251221T184956Z
LAST-MODIFIED:20251221T185314Z
UID:1502-1771182000-1771189200@timandmylesthompson.com
SUMMARY:For Pete’s Sake Benefit
DESCRIPTION:Benefit for The Pete Huttlinger Fund for Adult Congenital Cardiac Research at Vanderbilt University Medical Center
URL:https://timandmylesthompson.com/event/for-petes-sake-benefit/
LOCATION:City Winery\, Nashville\, TN\, United States
END:VEVENT
BEGIN:VEVENT
DTSTART;TZID=UTC:20260117T190000
DTEND;TZID=UTC:20260117T210000
DTSTAMP:20260423T221307
CREATED:20251221T184453Z
LAST-MODIFIED:20251221T184453Z
UID:1499-1768676400-1768683600@timandmylesthompson.com
SUMMARY:Wolf Howl House Concert
DESCRIPTION:
URL:https://timandmylesthompson.com/event/wolf-howl-house-concert/
LOCATION:Wolf Howl House Concert\, St Petersburg\, FL\, United States
END:VEVENT
BEGIN:VEVENT
DTSTART;TZID=UTC:20260116T193000
DTEND;TZID=UTC:20260116T213000
DTSTAMP:20260423T221307
CREATED:20251220T040530Z
LAST-MODIFIED:20251220T040530Z
UID:1485-1768591800-1768599000@timandmylesthompson.com
SUMMARY:Troll Music\, Sarasota\, Fl
DESCRIPTION:​
URL:https://timandmylesthompson.com/event/troll-music-sarasota-fl/
LOCATION:Troll Music\, Sarasota\, FL\, United States
END:VEVENT
BEGIN:VEVENT
DTSTART;TZID=America/New_York:20260115T190000
DTEND;TZID=America/New_York:20260115T210000
DTSTAMP:20260423T221307
CREATED:20251220T035131Z
LAST-MODIFIED:20251220T035721Z
UID:1474-1768503600-1768510800@timandmylesthompson.com
SUMMARY:Music Under the Stars at the Planetarium
DESCRIPTION:
URL:https://timandmylesthompson.com/event/music-under-the-stars-at-the-planetarium-2/
LOCATION:CALUSA Planetarium\, Ft Myers\, Fl
END:VEVENT
END:VCALENDAR