BEGIN:VCALENDAR
VERSION:2.0
PRODID:-//Tim and Myles Thompson - ECPv6.15.13.1//NONSGML v1.0//EN
CALSCALE:GREGORIAN
METHOD:PUBLISH
X-WR-CALNAME:Tim and Myles Thompson
X-ORIGINAL-URL:https://timandmylesthompson.com
X-WR-CALDESC:Events for Tim and Myles Thompson
REFRESH-INTERVAL;VALUE=DURATION:PT1H
X-Robots-Tag:noindex
X-PUBLISHED-TTL:PT1H
BEGIN:VTIMEZONE
TZID:UTC
BEGIN:STANDARD
TZOFFSETFROM:+0000
TZOFFSETTO:+0000
TZNAME:UTC
DTSTART:20250101T000000
END:STANDARD
END:VTIMEZONE
BEGIN:VEVENT
DTSTART;TZID=UTC:20260501T200000
DTEND;TZID=UTC:20260501T220000
DTSTAMP:20260423T221251
CREATED:20260323T192552Z
LAST-MODIFIED:20260323T192552Z
UID:1552-1777665600-1777672800@timandmylesthompson.com
SUMMARY:
DESCRIPTION:Front Porch Music\, Valparaiso\, IN
URL:https://timandmylesthompson.com/event/1552/
ORGANIZER;CN="Front Porch Music":MAILTO:fpm@frontporchmusic.com
END:VEVENT
BEGIN:VEVENT
DTSTART;TZID=UTC:20260502T190000
DTEND;TZID=UTC:20260502T210000
DTSTAMP:20260423T221251
CREATED:20251221T191940Z
LAST-MODIFIED:20251221T191940Z
UID:1519-1777748400-1777755600@timandmylesthompson.com
SUMMARY:The Braumart Theatre
DESCRIPTION:
URL:https://timandmylesthompson.com/event/the-braumart-theatre/
LOCATION:Braumart\, Iron Mountain\, MI\, United States
END:VEVENT
BEGIN:VEVENT
DTSTART;TZID=UTC:20260801T150000
DTEND;TZID=UTC:20260801T163000
DTSTAMP:20260423T221251
CREATED:20251221T192854Z
LAST-MODIFIED:20251221T193310Z
UID:1526-1785596400-1785601800@timandmylesthompson.com
SUMMARY:Belleville Music Festival
DESCRIPTION:
URL:https://timandmylesthompson.com/event/belleville-music-festival/
LOCATION:Belleville Music Festival\, Belleville\, WI\, United States
END:VEVENT
BEGIN:VEVENT
DTSTART;VALUE=DATE:20260828
DTEND;VALUE=DATE:20260831
DTSTAMP:20260423T221251
CREATED:20251221T192221Z
LAST-MODIFIED:20260324T194302Z
UID:1523-1787875200-1788134399@timandmylesthompson.com
SUMMARY:Woodstock Fingerstyle Festival
DESCRIPTION:
URL:https://timandmylesthompson.com/event/woodstock-fingerstyle-festival/
LOCATION:Woodstock Fingerstyle\, Woodstock\, NY\, United States
END:VEVENT
END:VCALENDAR